BEGIN:VCALENDAR
VERSION:2.0
PRODID:spatie/icalendar-generator
DESCRIPTION:Events from 
X-WR-CALDESC:Events from 
REFRESH-INTERVAL;VALUE=DURATION:PT1440M
X-PUBLISHED-TTL:PT1440M
BEGIN:VTIMEZONE
TZID:UTC
BEGIN:STANDARD
DTSTART:20250630T080800Z
TZOFFSETFROM:+0000
TZOFFSETTO:+0000
END:STANDARD
END:VTIMEZONE
BEGIN:VEVENT
UID:96-17
DTSTAMP:20260421T111958Z
SUMMARY:Northern Nigeria Annual Conference
LOCATION:Wurkun West Pitiko-Buro  Karim-Lamido Taraba
ORGANIZER;CN=Ibrahim Babangida:MAILTO:ibrahim.babangida@umcnigeria.org
DTSTART:20260327T080800Z
DTEND:20260327T090800Z
X-ALT-DESC;FMTTYPE=TEXT/HTML:Women’s Outreach: The Women’s Outreach of 
 the Northern Conference will be held at Wurkun West on 27th March 2026. Th
 e outreach aims to promote spiritual growth and provide support and encour
 agement to women within the host community through prayer\, teaching\, eva
 ngelism\, and acts of service.
CATEGORIES:Women
URL;VALUE=URI:https://umcnigeria.org/mc-events/northern-nigeria-annual-conf
 erence-4/
METHOD:PUBLISH
END:VEVENT
END:VCALENDAR