BEGIN:VCALENDAR
VERSION:2.0
PRODID:spatie/icalendar-generator
DESCRIPTION:Events from 
X-WR-CALDESC:Events from 
REFRESH-INTERVAL;VALUE=DURATION:PT1440M
X-PUBLISHED-TTL:PT1440M
BEGIN:VTIMEZONE
TZID:UTC
BEGIN:STANDARD
DTSTART:20250611T080800Z
TZOFFSETFROM:+0000
TZOFFSETTO:+0000
END:STANDARD
END:VTIMEZONE
BEGIN:VEVENT
UID:95-16
DTSTAMP:20260421T115224Z
SUMMARY:Northern Nigeria Annual Conference
LOCATION:Samson Gwaladi Memorial Cathedral    Filiya Gombe
ORGANIZER;CN=Ibrahim Babangida:MAILTO:ibrahim.babangida@umcnigeria.org
DTSTART:20260308T080800Z
DTEND:20260308T143800Z
X-ALT-DESC;FMTTYPE=TEXT/HTML:Women Pledge Sunday:Women’s Pledge will be o
 bserved across all the charges.
CATEGORIES:Women
URL;VALUE=URI:https://umcnigeria.org/mc-events/northern-nigeria-annual-conf
 erence-3/
METHOD:PUBLISH
END:VEVENT
END:VCALENDAR